BEGIN:VCALENDAR
VERSION:2.0
PRODID:-//Union Presbyterian Church of Los Altos - ECPv6.15.20//NONSGML v1.0//EN
CALSCALE:GREGORIAN
METHOD:PUBLISH
X-WR-CALNAME:Union Presbyterian Church of Los Altos
X-ORIGINAL-URL:https://unionpc.org
X-WR-CALDESC:Events for Union Presbyterian Church of Los Altos
REFRESH-INTERVAL;VALUE=DURATION:PT1H
X-Robots-Tag:noindex
X-PUBLISHED-TTL:PT1H
BEGIN:VTIMEZONE
TZID:America/Los_Angeles
BEGIN:DAYLIGHT
TZOFFSETFROM:-0800
TZOFFSETTO:-0700
TZNAME:PDT
DTSTART:20240310T100000
END:DAYLIGHT
BEGIN:STANDARD
TZOFFSETFROM:-0700
TZOFFSETTO:-0800
TZNAME:PST
DTSTART:20241103T090000
END:STANDARD
BEGIN:DAYLIGHT
TZOFFSETFROM:-0800
TZOFFSETTO:-0700
TZNAME:PDT
DTSTART:20250309T100000
END:DAYLIGHT
BEGIN:STANDARD
TZOFFSETFROM:-0700
TZOFFSETTO:-0800
TZNAME:PST
DTSTART:20251102T090000
END:STANDARD
BEGIN:DAYLIGHT
TZOFFSETFROM:-0800
TZOFFSETTO:-0700
TZNAME:PDT
DTSTART:20260308T100000
END:DAYLIGHT
BEGIN:STANDARD
TZOFFSETFROM:-0700
TZOFFSETTO:-0800
TZNAME:PST
DTSTART:20261101T090000
END:STANDARD
END:VTIMEZONE
BEGIN:VEVENT
DTSTART;TZID=America/Los_Angeles:20251214T084500
DTEND;TZID=America/Los_Angeles:20251214T214500
DTSTAMP:20260420T015444
CREATED:20240914T223528Z
LAST-MODIFIED:20250118T190152Z
UID:10000655-1765701900-1765748700@unionpc.org
SUMMARY:Adult Sunday School
DESCRIPTION:Adult Sunday School\, in-person in Landels Room or on Zoom. \nReview a video by Ligonier Ministries and discussion \nReach out to Mark Morris to obtain the Zoom meeting link @ markmorrisruns@aol.com \n 
URL:https://unionpc.org/event/adult-sunday-school/2025-12-14/
LOCATION:Union Presbyterian Church of Los Altos\, 858 University Avenue\, Los Altos\, CA\, 94024\, United States
CATEGORIES:Sunday School
ORGANIZER;CN="Union Presbyterian Church of Los Altos":MAILTO:communications@unionpc.org
END:VEVENT
BEGIN:VEVENT
DTSTART;TZID=America/Los_Angeles:20251208T120000
DTEND;TZID=America/Los_Angeles:20251208T150000
DTSTAMP:20260420T015444
CREATED:20251031T000539Z
LAST-MODIFIED:20251031T001234Z
UID:10001952-1765195200-1765206000@unionpc.org
SUMMARY:Book Club
DESCRIPTION:
URL:https://unionpc.org/event/book-club/2025-12-08/
LOCATION:CA
CATEGORIES:Get-together
END:VEVENT
BEGIN:VEVENT
DTSTART;TZID=America/Los_Angeles:20251207T100000
DTEND;TZID=America/Los_Angeles:20251207T110000
DTSTAMP:20260420T015444
CREATED:20240914T224610Z
LAST-MODIFIED:20250118T190424Z
UID:10001111-1765101600-1765105200@unionpc.org
SUMMARY:Children's Sunday School
DESCRIPTION:Children up to 12 are welcome to join us for Sunday Service and then will move upstairs for Sunday School after the Children’s Sermon. \nChildren can be picked up in the Youth room upstairs at the end of the Sunday Service. \nChildren will enjoy crafts\, activities and a lesson that will help build a foundation of faith to last a lifetime.
URL:https://unionpc.org/event/childrens-sunday-school/2025-12-07/
LOCATION:Union Presbyterian Church of Los Altos\, 858 University Avenue\, Los Altos\, CA\, 94024\, United States
CATEGORIES:Sunday School
ORGANIZER;CN="Union Presbyterian Church of Los Altos":MAILTO:communications@unionpc.org
END:VEVENT
BEGIN:VEVENT
DTSTART;TZID=America/Los_Angeles:20251207T084500
DTEND;TZID=America/Los_Angeles:20251207T214500
DTSTAMP:20260420T015444
CREATED:20240914T223528Z
LAST-MODIFIED:20250118T190152Z
UID:10000653-1765097100-1765143900@unionpc.org
SUMMARY:Adult Sunday School
DESCRIPTION:Adult Sunday School\, in-person in Landels Room or on Zoom. \nReview a video by Ligonier Ministries and discussion \nReach out to Mark Morris to obtain the Zoom meeting link @ markmorrisruns@aol.com \n 
URL:https://unionpc.org/event/adult-sunday-school/2025-12-07/
LOCATION:Union Presbyterian Church of Los Altos\, 858 University Avenue\, Los Altos\, CA\, 94024\, United States
CATEGORIES:Sunday School
ORGANIZER;CN="Union Presbyterian Church of Los Altos":MAILTO:communications@unionpc.org
END:VEVENT
BEGIN:VEVENT
DTSTART;TZID=America/Los_Angeles:20251206T170000
DTEND;TZID=America/Los_Angeles:20251206T193000
DTSTAMP:20260420T015444
CREATED:20251118T220058Z
LAST-MODIFIED:20251118T234839Z
UID:10002021-1765040400-1765049400@unionpc.org
SUMMARY:Christmas Movie Night
DESCRIPTION:Friends of all ages are invited to our Christmas Movie Night towatch “The Best Christmas Pageant Ever”. Dinner\, popcorn\, anddessert. Please RSVP to Grace children_youth@unionpc.org.
URL:https://unionpc.org/event/christmas-movie-night/
LOCATION:CA
CATEGORIES:Christmas
END:VEVENT
BEGIN:VEVENT
DTSTART;TZID=America/Los_Angeles:20251130T100000
DTEND;TZID=America/Los_Angeles:20251130T113000
DTSTAMP:20260420T015444
CREATED:20251118T180043Z
LAST-MODIFIED:20251118T234034Z
UID:10002019-1764496800-1764502200@unionpc.org
SUMMARY:1st Sunday of Advent
DESCRIPTION:Come and join us for worship as we celebrate the first Sunday ofAdvent.
URL:https://unionpc.org/event/1st-sunday-of-advent/
LOCATION:CA
CATEGORIES:Sunday Service
END:VEVENT
BEGIN:VEVENT
DTSTART;TZID=America/Los_Angeles:20251130T100000
DTEND;TZID=America/Los_Angeles:20251130T110000
DTSTAMP:20260420T015444
CREATED:20240914T224610Z
LAST-MODIFIED:20250118T190424Z
UID:10001110-1764496800-1764500400@unionpc.org
SUMMARY:Children's Sunday School
DESCRIPTION:Children up to 12 are welcome to join us for Sunday Service and then will move upstairs for Sunday School after the Children’s Sermon. \nChildren can be picked up in the Youth room upstairs at the end of the Sunday Service. \nChildren will enjoy crafts\, activities and a lesson that will help build a foundation of faith to last a lifetime.
URL:https://unionpc.org/event/childrens-sunday-school/2025-11-30/
LOCATION:Union Presbyterian Church of Los Altos\, 858 University Avenue\, Los Altos\, CA\, 94024\, United States
CATEGORIES:Sunday School
ORGANIZER;CN="Union Presbyterian Church of Los Altos":MAILTO:communications@unionpc.org
END:VEVENT
BEGIN:VEVENT
DTSTART;TZID=America/Los_Angeles:20251130T084500
DTEND;TZID=America/Los_Angeles:20251130T214500
DTSTAMP:20260420T015444
CREATED:20240914T223528Z
LAST-MODIFIED:20250118T190152Z
UID:10000651-1764492300-1764539100@unionpc.org
SUMMARY:Adult Sunday School
DESCRIPTION:Adult Sunday School\, in-person in Landels Room or on Zoom. \nReview a video by Ligonier Ministries and discussion \nReach out to Mark Morris to obtain the Zoom meeting link @ markmorrisruns@aol.com \n 
URL:https://unionpc.org/event/adult-sunday-school/2025-11-30/
LOCATION:Union Presbyterian Church of Los Altos\, 858 University Avenue\, Los Altos\, CA\, 94024\, United States
CATEGORIES:Sunday School
ORGANIZER;CN="Union Presbyterian Church of Los Altos":MAILTO:communications@unionpc.org
END:VEVENT
BEGIN:VEVENT
DTSTART;TZID=America/Los_Angeles:20251128T090000
DTEND;TZID=America/Los_Angeles:20251128T130000
DTSTAMP:20260420T015444
CREATED:20251118T170012Z
LAST-MODIFIED:20251127T050927Z
UID:10002020-1764320400-1764334800@unionpc.org
SUMMARY:Hanging Christmas Greens
DESCRIPTION:You are invited to help us decorate the church for the Christmasseason. This is a great way to get into the Christmas spirit.Come and join the fun!
URL:https://unionpc.org/event/hanging-christmas-greens/
LOCATION:CA
CATEGORIES:Christmas
END:VEVENT
BEGIN:VEVENT
DTSTART;TZID=America/Los_Angeles:20251123T100000
DTEND;TZID=America/Los_Angeles:20251123T110000
DTSTAMP:20260420T015444
CREATED:20240914T224610Z
LAST-MODIFIED:20250118T190424Z
UID:10001109-1763892000-1763895600@unionpc.org
SUMMARY:Children's Sunday School
DESCRIPTION:Children up to 12 are welcome to join us for Sunday Service and then will move upstairs for Sunday School after the Children’s Sermon. \nChildren can be picked up in the Youth room upstairs at the end of the Sunday Service. \nChildren will enjoy crafts\, activities and a lesson that will help build a foundation of faith to last a lifetime.
URL:https://unionpc.org/event/childrens-sunday-school/2025-11-23/
LOCATION:Union Presbyterian Church of Los Altos\, 858 University Avenue\, Los Altos\, CA\, 94024\, United States
CATEGORIES:Sunday School
ORGANIZER;CN="Union Presbyterian Church of Los Altos":MAILTO:communications@unionpc.org
END:VEVENT
BEGIN:VEVENT
DTSTART;TZID=America/Los_Angeles:20251123T084500
DTEND;TZID=America/Los_Angeles:20251123T214500
DTSTAMP:20260420T015444
CREATED:20240914T223528Z
LAST-MODIFIED:20250118T190152Z
UID:10000649-1763887500-1763934300@unionpc.org
SUMMARY:Adult Sunday School
DESCRIPTION:Adult Sunday School\, in-person in Landels Room or on Zoom. \nReview a video by Ligonier Ministries and discussion \nReach out to Mark Morris to obtain the Zoom meeting link @ markmorrisruns@aol.com \n 
URL:https://unionpc.org/event/adult-sunday-school/2025-11-23/
LOCATION:Union Presbyterian Church of Los Altos\, 858 University Avenue\, Los Altos\, CA\, 94024\, United States
CATEGORIES:Sunday School
ORGANIZER;CN="Union Presbyterian Church of Los Altos":MAILTO:communications@unionpc.org
END:VEVENT
BEGIN:VEVENT
DTSTART;TZID=America/Los_Angeles:20251116T100000
DTEND;TZID=America/Los_Angeles:20251116T110000
DTSTAMP:20260420T015445
CREATED:20240914T224610Z
LAST-MODIFIED:20250118T190424Z
UID:10001108-1763287200-1763290800@unionpc.org
SUMMARY:Children's Sunday School
DESCRIPTION:Children up to 12 are welcome to join us for Sunday Service and then will move upstairs for Sunday School after the Children’s Sermon. \nChildren can be picked up in the Youth room upstairs at the end of the Sunday Service. \nChildren will enjoy crafts\, activities and a lesson that will help build a foundation of faith to last a lifetime.
URL:https://unionpc.org/event/childrens-sunday-school/2025-11-16/
LOCATION:Union Presbyterian Church of Los Altos\, 858 University Avenue\, Los Altos\, CA\, 94024\, United States
CATEGORIES:Sunday School
ORGANIZER;CN="Union Presbyterian Church of Los Altos":MAILTO:communications@unionpc.org
END:VEVENT
BEGIN:VEVENT
DTSTART;TZID=America/Los_Angeles:20251116T084500
DTEND;TZID=America/Los_Angeles:20251116T214500
DTSTAMP:20260420T015445
CREATED:20240914T223528Z
LAST-MODIFIED:20250118T190152Z
UID:10000647-1763282700-1763329500@unionpc.org
SUMMARY:Adult Sunday School
DESCRIPTION:Adult Sunday School\, in-person in Landels Room or on Zoom. \nReview a video by Ligonier Ministries and discussion \nReach out to Mark Morris to obtain the Zoom meeting link @ markmorrisruns@aol.com \n 
URL:https://unionpc.org/event/adult-sunday-school/2025-11-16/
LOCATION:Union Presbyterian Church of Los Altos\, 858 University Avenue\, Los Altos\, CA\, 94024\, United States
CATEGORIES:Sunday School
ORGANIZER;CN="Union Presbyterian Church of Los Altos":MAILTO:communications@unionpc.org
END:VEVENT
BEGIN:VEVENT
DTSTART;TZID=America/Los_Angeles:20251111T080000
DTEND;TZID=America/Los_Angeles:20251111T170000
DTSTAMP:20260420T015445
CREATED:20251030T042433Z
LAST-MODIFIED:20251030T042436Z
UID:10001418-1762848000-1762880400@unionpc.org
SUMMARY:Test Event
DESCRIPTION:just a test
URL:https://unionpc.org/event/test-event/
LOCATION:CA
END:VEVENT
BEGIN:VEVENT
DTSTART;TZID=America/Los_Angeles:20251110T120000
DTEND;TZID=America/Los_Angeles:20251110T150000
DTSTAMP:20260420T015445
CREATED:20251031T000539Z
LAST-MODIFIED:20251031T001234Z
UID:10001951-1762776000-1762786800@unionpc.org
SUMMARY:Book Club
DESCRIPTION:
URL:https://unionpc.org/event/book-club/2025-11-10/
LOCATION:CA
CATEGORIES:Get-together
END:VEVENT
BEGIN:VEVENT
DTSTART;TZID=America/Los_Angeles:20251109T100000
DTEND;TZID=America/Los_Angeles:20251109T110000
DTSTAMP:20260420T015445
CREATED:20240914T224610Z
LAST-MODIFIED:20250118T190424Z
UID:10001107-1762682400-1762686000@unionpc.org
SUMMARY:Children's Sunday School
DESCRIPTION:Children up to 12 are welcome to join us for Sunday Service and then will move upstairs for Sunday School after the Children’s Sermon. \nChildren can be picked up in the Youth room upstairs at the end of the Sunday Service. \nChildren will enjoy crafts\, activities and a lesson that will help build a foundation of faith to last a lifetime.
URL:https://unionpc.org/event/childrens-sunday-school/2025-11-09/
LOCATION:Union Presbyterian Church of Los Altos\, 858 University Avenue\, Los Altos\, CA\, 94024\, United States
CATEGORIES:Sunday School
ORGANIZER;CN="Union Presbyterian Church of Los Altos":MAILTO:communications@unionpc.org
END:VEVENT
BEGIN:VEVENT
DTSTART;TZID=America/Los_Angeles:20251109T084500
DTEND;TZID=America/Los_Angeles:20251109T214500
DTSTAMP:20260420T015445
CREATED:20240914T223528Z
LAST-MODIFIED:20250118T190152Z
UID:10000645-1762677900-1762724700@unionpc.org
SUMMARY:Adult Sunday School
DESCRIPTION:Adult Sunday School\, in-person in Landels Room or on Zoom. \nReview a video by Ligonier Ministries and discussion \nReach out to Mark Morris to obtain the Zoom meeting link @ markmorrisruns@aol.com \n 
URL:https://unionpc.org/event/adult-sunday-school/2025-11-09/
LOCATION:Union Presbyterian Church of Los Altos\, 858 University Avenue\, Los Altos\, CA\, 94024\, United States
CATEGORIES:Sunday School
ORGANIZER;CN="Union Presbyterian Church of Los Altos":MAILTO:communications@unionpc.org
END:VEVENT
BEGIN:VEVENT
DTSTART;TZID=America/Los_Angeles:20251102T100000
DTEND;TZID=America/Los_Angeles:20251102T110000
DTSTAMP:20260420T015445
CREATED:20240914T224610Z
LAST-MODIFIED:20250118T190424Z
UID:10001106-1762077600-1762081200@unionpc.org
SUMMARY:Children's Sunday School
DESCRIPTION:Children up to 12 are welcome to join us for Sunday Service and then will move upstairs for Sunday School after the Children’s Sermon. \nChildren can be picked up in the Youth room upstairs at the end of the Sunday Service. \nChildren will enjoy crafts\, activities and a lesson that will help build a foundation of faith to last a lifetime.
URL:https://unionpc.org/event/childrens-sunday-school/2025-11-02/
LOCATION:Union Presbyterian Church of Los Altos\, 858 University Avenue\, Los Altos\, CA\, 94024\, United States
CATEGORIES:Sunday School
ORGANIZER;CN="Union Presbyterian Church of Los Altos":MAILTO:communications@unionpc.org
END:VEVENT
BEGIN:VEVENT
DTSTART;TZID=America/Los_Angeles:20251102T084500
DTEND;TZID=America/Los_Angeles:20251102T214500
DTSTAMP:20260420T015445
CREATED:20240914T223528Z
LAST-MODIFIED:20250118T190152Z
UID:10000643-1762073100-1762119900@unionpc.org
SUMMARY:Adult Sunday School
DESCRIPTION:Adult Sunday School\, in-person in Landels Room or on Zoom. \nReview a video by Ligonier Ministries and discussion \nReach out to Mark Morris to obtain the Zoom meeting link @ markmorrisruns@aol.com \n 
URL:https://unionpc.org/event/adult-sunday-school/2025-11-02/
LOCATION:Union Presbyterian Church of Los Altos\, 858 University Avenue\, Los Altos\, CA\, 94024\, United States
CATEGORIES:Sunday School
ORGANIZER;CN="Union Presbyterian Church of Los Altos":MAILTO:communications@unionpc.org
END:VEVENT
BEGIN:VEVENT
DTSTART;TZID=America/Los_Angeles:20251026T100000
DTEND;TZID=America/Los_Angeles:20251026T110000
DTSTAMP:20260420T015445
CREATED:20240914T224610Z
LAST-MODIFIED:20250118T190424Z
UID:10001105-1761472800-1761476400@unionpc.org
SUMMARY:Children's Sunday School
DESCRIPTION:Children up to 12 are welcome to join us for Sunday Service and then will move upstairs for Sunday School after the Children’s Sermon. \nChildren can be picked up in the Youth room upstairs at the end of the Sunday Service. \nChildren will enjoy crafts\, activities and a lesson that will help build a foundation of faith to last a lifetime.
URL:https://unionpc.org/event/childrens-sunday-school/2025-10-26/
LOCATION:Union Presbyterian Church of Los Altos\, 858 University Avenue\, Los Altos\, CA\, 94024\, United States
CATEGORIES:Sunday School
ORGANIZER;CN="Union Presbyterian Church of Los Altos":MAILTO:communications@unionpc.org
END:VEVENT
BEGIN:VEVENT
DTSTART;TZID=America/Los_Angeles:20251026T084500
DTEND;TZID=America/Los_Angeles:20251026T214500
DTSTAMP:20260420T015445
CREATED:20240914T223528Z
LAST-MODIFIED:20250118T190152Z
UID:10000641-1761468300-1761515100@unionpc.org
SUMMARY:Adult Sunday School
DESCRIPTION:Adult Sunday School\, in-person in Landels Room or on Zoom. \nReview a video by Ligonier Ministries and discussion \nReach out to Mark Morris to obtain the Zoom meeting link @ markmorrisruns@aol.com \n 
URL:https://unionpc.org/event/adult-sunday-school/2025-10-26/
LOCATION:Union Presbyterian Church of Los Altos\, 858 University Avenue\, Los Altos\, CA\, 94024\, United States
CATEGORIES:Sunday School
ORGANIZER;CN="Union Presbyterian Church of Los Altos":MAILTO:communications@unionpc.org
END:VEVENT
BEGIN:VEVENT
DTSTART;TZID=America/Los_Angeles:20251019T100000
DTEND;TZID=America/Los_Angeles:20251019T110000
DTSTAMP:20260420T015445
CREATED:20240914T224610Z
LAST-MODIFIED:20250118T190424Z
UID:10001104-1760868000-1760871600@unionpc.org
SUMMARY:Children's Sunday School
DESCRIPTION:Children up to 12 are welcome to join us for Sunday Service and then will move upstairs for Sunday School after the Children’s Sermon. \nChildren can be picked up in the Youth room upstairs at the end of the Sunday Service. \nChildren will enjoy crafts\, activities and a lesson that will help build a foundation of faith to last a lifetime.
URL:https://unionpc.org/event/childrens-sunday-school/2025-10-19/
LOCATION:Union Presbyterian Church of Los Altos\, 858 University Avenue\, Los Altos\, CA\, 94024\, United States
CATEGORIES:Sunday School
ORGANIZER;CN="Union Presbyterian Church of Los Altos":MAILTO:communications@unionpc.org
END:VEVENT
BEGIN:VEVENT
DTSTART;TZID=America/Los_Angeles:20251019T084500
DTEND;TZID=America/Los_Angeles:20251019T214500
DTSTAMP:20260420T015445
CREATED:20240914T223528Z
LAST-MODIFIED:20250118T190152Z
UID:10000639-1760863500-1760910300@unionpc.org
SUMMARY:Adult Sunday School
DESCRIPTION:Adult Sunday School\, in-person in Landels Room or on Zoom. \nReview a video by Ligonier Ministries and discussion \nReach out to Mark Morris to obtain the Zoom meeting link @ markmorrisruns@aol.com \n 
URL:https://unionpc.org/event/adult-sunday-school/2025-10-19/
LOCATION:Union Presbyterian Church of Los Altos\, 858 University Avenue\, Los Altos\, CA\, 94024\, United States
CATEGORIES:Sunday School
ORGANIZER;CN="Union Presbyterian Church of Los Altos":MAILTO:communications@unionpc.org
END:VEVENT
BEGIN:VEVENT
DTSTART;TZID=America/Los_Angeles:20251013T120000
DTEND;TZID=America/Los_Angeles:20251013T150000
DTSTAMP:20260420T015445
CREATED:20251031T000539Z
LAST-MODIFIED:20251031T001234Z
UID:10001950-1760356800-1760367600@unionpc.org
SUMMARY:Book Club
DESCRIPTION:
URL:https://unionpc.org/event/book-club/2025-10-13/
LOCATION:CA
CATEGORIES:Get-together
END:VEVENT
BEGIN:VEVENT
DTSTART;TZID=America/Los_Angeles:20251012T100000
DTEND;TZID=America/Los_Angeles:20251012T110000
DTSTAMP:20260420T015445
CREATED:20240914T224610Z
LAST-MODIFIED:20250118T190424Z
UID:10001103-1760263200-1760266800@unionpc.org
SUMMARY:Children's Sunday School
DESCRIPTION:Children up to 12 are welcome to join us for Sunday Service and then will move upstairs for Sunday School after the Children’s Sermon. \nChildren can be picked up in the Youth room upstairs at the end of the Sunday Service. \nChildren will enjoy crafts\, activities and a lesson that will help build a foundation of faith to last a lifetime.
URL:https://unionpc.org/event/childrens-sunday-school/2025-10-12/
LOCATION:Union Presbyterian Church of Los Altos\, 858 University Avenue\, Los Altos\, CA\, 94024\, United States
CATEGORIES:Sunday School
ORGANIZER;CN="Union Presbyterian Church of Los Altos":MAILTO:communications@unionpc.org
END:VEVENT
BEGIN:VEVENT
DTSTART;TZID=America/Los_Angeles:20251012T084500
DTEND;TZID=America/Los_Angeles:20251012T214500
DTSTAMP:20260420T015445
CREATED:20240914T223528Z
LAST-MODIFIED:20250118T190152Z
UID:10000637-1760258700-1760305500@unionpc.org
SUMMARY:Adult Sunday School
DESCRIPTION:Adult Sunday School\, in-person in Landels Room or on Zoom. \nReview a video by Ligonier Ministries and discussion \nReach out to Mark Morris to obtain the Zoom meeting link @ markmorrisruns@aol.com \n 
URL:https://unionpc.org/event/adult-sunday-school/2025-10-12/
LOCATION:Union Presbyterian Church of Los Altos\, 858 University Avenue\, Los Altos\, CA\, 94024\, United States
CATEGORIES:Sunday School
ORGANIZER;CN="Union Presbyterian Church of Los Altos":MAILTO:communications@unionpc.org
END:VEVENT
BEGIN:VEVENT
DTSTART;TZID=America/Los_Angeles:20251005T100000
DTEND;TZID=America/Los_Angeles:20251005T110000
DTSTAMP:20260420T015445
CREATED:20240914T224610Z
LAST-MODIFIED:20250118T190424Z
UID:10001102-1759658400-1759662000@unionpc.org
SUMMARY:Children's Sunday School
DESCRIPTION:Children up to 12 are welcome to join us for Sunday Service and then will move upstairs for Sunday School after the Children’s Sermon. \nChildren can be picked up in the Youth room upstairs at the end of the Sunday Service. \nChildren will enjoy crafts\, activities and a lesson that will help build a foundation of faith to last a lifetime.
URL:https://unionpc.org/event/childrens-sunday-school/2025-10-05/
LOCATION:Union Presbyterian Church of Los Altos\, 858 University Avenue\, Los Altos\, CA\, 94024\, United States
CATEGORIES:Sunday School
ORGANIZER;CN="Union Presbyterian Church of Los Altos":MAILTO:communications@unionpc.org
END:VEVENT
BEGIN:VEVENT
DTSTART;TZID=America/Los_Angeles:20251005T084500
DTEND;TZID=America/Los_Angeles:20251005T214500
DTSTAMP:20260420T015445
CREATED:20240914T223528Z
LAST-MODIFIED:20250118T190152Z
UID:10000635-1759653900-1759700700@unionpc.org
SUMMARY:Adult Sunday School
DESCRIPTION:Adult Sunday School\, in-person in Landels Room or on Zoom. \nReview a video by Ligonier Ministries and discussion \nReach out to Mark Morris to obtain the Zoom meeting link @ markmorrisruns@aol.com \n 
URL:https://unionpc.org/event/adult-sunday-school/2025-10-05/
LOCATION:Union Presbyterian Church of Los Altos\, 858 University Avenue\, Los Altos\, CA\, 94024\, United States
CATEGORIES:Sunday School
ORGANIZER;CN="Union Presbyterian Church of Los Altos":MAILTO:communications@unionpc.org
END:VEVENT
BEGIN:VEVENT
DTSTART;TZID=America/Los_Angeles:20250928T100000
DTEND;TZID=America/Los_Angeles:20250928T110000
DTSTAMP:20260420T015445
CREATED:20240914T224610Z
LAST-MODIFIED:20250118T190424Z
UID:10001101-1759053600-1759057200@unionpc.org
SUMMARY:Children's Sunday School
DESCRIPTION:Children up to 12 are welcome to join us for Sunday Service and then will move upstairs for Sunday School after the Children’s Sermon. \nChildren can be picked up in the Youth room upstairs at the end of the Sunday Service. \nChildren will enjoy crafts\, activities and a lesson that will help build a foundation of faith to last a lifetime.
URL:https://unionpc.org/event/childrens-sunday-school/2025-09-28/
LOCATION:Union Presbyterian Church of Los Altos\, 858 University Avenue\, Los Altos\, CA\, 94024\, United States
CATEGORIES:Sunday School
ORGANIZER;CN="Union Presbyterian Church of Los Altos":MAILTO:communications@unionpc.org
END:VEVENT
BEGIN:VEVENT
DTSTART;TZID=America/Los_Angeles:20250928T084500
DTEND;TZID=America/Los_Angeles:20250928T214500
DTSTAMP:20260420T015445
CREATED:20240914T223528Z
LAST-MODIFIED:20250118T190152Z
UID:10000633-1759049100-1759095900@unionpc.org
SUMMARY:Adult Sunday School
DESCRIPTION:Adult Sunday School\, in-person in Landels Room or on Zoom. \nReview a video by Ligonier Ministries and discussion \nReach out to Mark Morris to obtain the Zoom meeting link @ markmorrisruns@aol.com \n 
URL:https://unionpc.org/event/adult-sunday-school/2025-09-28/
LOCATION:Union Presbyterian Church of Los Altos\, 858 University Avenue\, Los Altos\, CA\, 94024\, United States
CATEGORIES:Sunday School
ORGANIZER;CN="Union Presbyterian Church of Los Altos":MAILTO:communications@unionpc.org
END:VEVENT
END:VCALENDAR